BEGIN:VCALENDAR
VERSION:2.0
PRODID:icalendar-ruby
CALSCALE:GREGORIAN
METHOD:PUBLISH
BEGIN:VEVENT
DTSTAMP:20260422T100630Z
UID:34-744519@vcchurch.net
DTSTART:20260920T150000Z
DTEND:20260920T160000Z
CLASS:PUBLIC
CREATED:20260421T205006
DESCRIPTION:Kids under 12 will be called from the Sunday worship service af
 ter the announcements and worship music is over\, usually about 15 minutes
  or so into the service. Our children's teachers will escort them back to 
 the bible study rooms. Parents can go to the bible study rooms at the end 
 of service to find their children. \nNursery help available for babies an
 d children under 4. 
LAST-MODIFIED:20260421T205006
LOCATION:VCC Sunday School rooms
SUMMARY:Children's Church
URL;VALUE=URI:https://www.vcchurch.net/events/childrens-church/2026-09-20
ATTACH;FILENAME=childrens-church.png;FMTTYPE=image/png:https://dq5pwpg1q8ru
 0.cloudfront.net/2025/07/01/14/59/37/7fcbc1fe-f853-461b-a1e5-b0f601c1407a/
 childrens-church.png
END:VEVENT
END:VCALENDAR
