BEGIN:VCALENDAR
VERSION:2.0
PRODID:icalendar-ruby
CALSCALE:GREGORIAN
METHOD:PUBLISH
BEGIN:VEVENT
DTSTAMP:20260422T100953Z
UID:8-744106@vcchurch.net
DTSTART:20260920T144500Z
DTEND:20260920T160000Z
CLASS:PUBLIC
CREATED:20260421T205005
DESCRIPTION:Join us in worship every Sunday morning at 10:45! 
LAST-MODIFIED:20260421T205005
LOCATION:VCC Sanctuary\, 5700 Taylor Rd. Doylestown\, Oh 44230
SUMMARY:Sunday Worship 10:45 am
URL;VALUE=URI:https://www.vcchurch.net/events/sunday-worship-10-45-am/2026-
 09-20
ATTACH;FILENAME=IMG_8694.jpg;FMTTYPE=image/jpeg:https://dq5pwpg1q8ru0.cloud
 front.net/2024/07/15/13/16/27/0c574071-9596-4c6b-8b45-acb9d2aae334/IMG_869
 4.jpg
END:VEVENT
END:VCALENDAR
